BEGIN:VCALENDAR
VERSION:2.0
PRODID:-// - ECPv6.15.17.1//NONSGML v1.0//EN
CALSCALE:GREGORIAN
METHOD:PUBLISH
X-ORIGINAL-URL:http://test.sgwendenschloss.de
X-WR-CALDESC:Veranstaltungen für 
REFRESH-INTERVAL;VALUE=DURATION:PT1H
X-Robots-Tag:noindex
X-PUBLISHED-TTL:PT1H
BEGIN:VTIMEZONE
TZID:Europe/Berlin
BEGIN:DAYLIGHT
TZOFFSETFROM:+0100
TZOFFSETTO:+0200
TZNAME:CEST
DTSTART:20240331T010000
END:DAYLIGHT
BEGIN:STANDARD
TZOFFSETFROM:+0200
TZOFFSETTO:+0100
TZNAME:CET
DTSTART:20241027T010000
END:STANDARD
BEGIN:DAYLIGHT
TZOFFSETFROM:+0100
TZOFFSETTO:+0200
TZNAME:CEST
DTSTART:20250330T010000
END:DAYLIGHT
BEGIN:STANDARD
TZOFFSETFROM:+0200
TZOFFSETTO:+0100
TZNAME:CET
DTSTART:20251026T010000
END:STANDARD
BEGIN:DAYLIGHT
TZOFFSETFROM:+0100
TZOFFSETTO:+0200
TZNAME:CEST
DTSTART:20260329T010000
END:DAYLIGHT
BEGIN:STANDARD
TZOFFSETFROM:+0200
TZOFFSETTO:+0100
TZNAME:CET
DTSTART:20261025T010000
END:STANDARD
END:VTIMEZONE
BEGIN:VEVENT
DTSTART;TZID=Europe/Berlin:20251101T090000
DTEND;TZID=Europe/Berlin:20251101T090000
DTSTAMP:20260425T143804
CREATED:20250118T155309Z
LAST-MODIFIED:20250118T155309Z
UID:3224-1761987600-1761987600@test.sgwendenschloss.de
SUMMARY:Aufslippen / Abgabe Bordbücher
DESCRIPTION:
URL:http://test.sgwendenschloss.de/kalender/aufslippen-abgabe-bordbuecher/
END:VEVENT
BEGIN:VEVENT
DTSTART;TZID=Europe/Berlin:20251103T190000
DTEND;TZID=Europe/Berlin:20251103T190000
DTSTAMP:20260425T143804
CREATED:20250118T155323Z
LAST-MODIFIED:20250118T155519Z
UID:3225-1762196400-1762196400@test.sgwendenschloss.de
SUMMARY:Vorstandssitzung
DESCRIPTION:
URL:http://test.sgwendenschloss.de/kalender/vorstandssitzung-44/
CATEGORIES:Vorstand
END:VEVENT
BEGIN:VEVENT
DTSTART;TZID=Europe/Berlin:20251115T150000
DTEND;TZID=Europe/Berlin:20251115T150000
DTSTAMP:20260425T143804
CREATED:20250118T155324Z
LAST-MODIFIED:20250118T155324Z
UID:3227-1763218800-1763218800@test.sgwendenschloss.de
SUMMARY:Mitgliederversammlung*
DESCRIPTION:
URL:http://test.sgwendenschloss.de/kalender/mitgliederversammlung-8/
END:VEVENT
BEGIN:VEVENT
DTSTART;TZID=Europe/Berlin:20251122T000000
DTEND;TZID=Europe/Berlin:20251122T000000
DTSTAMP:20260425T143804
CREATED:20250118T155324Z
LAST-MODIFIED:20250118T155324Z
UID:3228-1763769600-1763769600@test.sgwendenschloss.de
SUMMARY:25 Jahre Hallenbau
DESCRIPTION:
URL:http://test.sgwendenschloss.de/kalender/25-jahre-hallenbau/
END:VEVENT
BEGIN:VEVENT
DTSTART;TZID=Europe/Berlin:20251130T100000
DTEND;TZID=Europe/Berlin:20251130T100000
DTSTAMP:20260425T143804
CREATED:20250118T155325Z
LAST-MODIFIED:20250118T155325Z
UID:3229-1764496800-1764496800@test.sgwendenschloss.de
SUMMARY:Vereins-Skat
DESCRIPTION:
URL:http://test.sgwendenschloss.de/kalender/vereins-skat/
END:VEVENT
END:VCALENDAR