BEGIN:VCALENDAR
VERSION:2.0
PRODID:-// - ECPv6.15.17.1//NONSGML v1.0//EN
CALSCALE:GREGORIAN
METHOD:PUBLISH
X-ORIGINAL-URL:http://test.sgwendenschloss.de
X-WR-CALDESC:Veranstaltungen für 
REFRESH-INTERVAL;VALUE=DURATION:PT1H
X-Robots-Tag:noindex
X-PUBLISHED-TTL:PT1H
BEGIN:VTIMEZONE
TZID:Europe/Berlin
BEGIN:DAYLIGHT
TZOFFSETFROM:+0100
TZOFFSETTO:+0200
TZNAME:CEST
DTSTART:20240331T010000
END:DAYLIGHT
BEGIN:STANDARD
TZOFFSETFROM:+0200
TZOFFSETTO:+0100
TZNAME:CET
DTSTART:20241027T010000
END:STANDARD
BEGIN:DAYLIGHT
TZOFFSETFROM:+0100
TZOFFSETTO:+0200
TZNAME:CEST
DTSTART:20250330T010000
END:DAYLIGHT
BEGIN:STANDARD
TZOFFSETFROM:+0200
TZOFFSETTO:+0100
TZNAME:CET
DTSTART:20251026T010000
END:STANDARD
BEGIN:DAYLIGHT
TZOFFSETFROM:+0100
TZOFFSETTO:+0200
TZNAME:CEST
DTSTART:20260329T010000
END:DAYLIGHT
BEGIN:STANDARD
TZOFFSETFROM:+0200
TZOFFSETTO:+0100
TZNAME:CET
DTSTART:20261025T010000
END:STANDARD
END:VTIMEZONE
BEGIN:VEVENT
DTSTART;TZID=Europe/Berlin:20251004T000000
DTEND;TZID=Europe/Berlin:20251004T000000
DTSTAMP:20260425T125458
CREATED:20250118T155308Z
LAST-MODIFIED:20250118T155308Z
UID:3220-1759536000-1759536000@test.sgwendenschloss.de
SUMMARY:Eisbeinregatta
DESCRIPTION:12527 Berlin
URL:http://test.sgwendenschloss.de/kalender/eisbeinregatta-4/
END:VEVENT
BEGIN:VEVENT
DTSTART;TZID=Europe/Berlin:20251006T190000
DTEND;TZID=Europe/Berlin:20251006T190000
DTSTAMP:20260425T125458
CREATED:20250118T155308Z
LAST-MODIFIED:20250118T155520Z
UID:3221-1759777200-1759777200@test.sgwendenschloss.de
SUMMARY:Vorstandssitzung
DESCRIPTION:
URL:http://test.sgwendenschloss.de/kalender/vorstandssitzung-43/
CATEGORIES:Vorstand
END:VEVENT
BEGIN:VEVENT
DTSTART;TZID=Europe/Berlin:20251011T100000
DTEND;TZID=Europe/Berlin:20251011T100000
DTSTAMP:20260425T125458
CREATED:20250118T155309Z
LAST-MODIFIED:20250118T155309Z
UID:3222-1760176800-1760176800@test.sgwendenschloss.de
SUMMARY:Absegeln
DESCRIPTION:
URL:http://test.sgwendenschloss.de/kalender/absegeln-4/
END:VEVENT
BEGIN:VEVENT
DTSTART;TZID=Europe/Berlin:20251018T100000
DTEND;TZID=Europe/Berlin:20251018T100000
DTSTAMP:20260425T125458
CREATED:20250118T155309Z
LAST-MODIFIED:20250118T155309Z
UID:3223-1760781600-1760781600@test.sgwendenschloss.de
SUMMARY:Arbeitseinsatz / Abnahme Vereinsboote  / Jolleneinlagerung
DESCRIPTION:
URL:http://test.sgwendenschloss.de/kalender/arbeitseinsatz-abnahme-vereinsboote-jolleneinlagerung/
END:VEVENT
END:VCALENDAR