BEGIN:VCALENDAR
VERSION:2.0
PRODID:-// - ECPv6.15.17.1//NONSGML v1.0//EN
CALSCALE:GREGORIAN
METHOD:PUBLISH
X-ORIGINAL-URL:http://test.sgwendenschloss.de
X-WR-CALDESC:Veranstaltungen für 
REFRESH-INTERVAL;VALUE=DURATION:PT1H
X-Robots-Tag:noindex
X-PUBLISHED-TTL:PT1H
BEGIN:VTIMEZONE
TZID:Europe/Berlin
BEGIN:DAYLIGHT
TZOFFSETFROM:+0100
TZOFFSETTO:+0200
TZNAME:CEST
DTSTART:20240331T010000
END:DAYLIGHT
BEGIN:STANDARD
TZOFFSETFROM:+0200
TZOFFSETTO:+0100
TZNAME:CET
DTSTART:20241027T010000
END:STANDARD
BEGIN:DAYLIGHT
TZOFFSETFROM:+0100
TZOFFSETTO:+0200
TZNAME:CEST
DTSTART:20250330T010000
END:DAYLIGHT
BEGIN:STANDARD
TZOFFSETFROM:+0200
TZOFFSETTO:+0100
TZNAME:CET
DTSTART:20251026T010000
END:STANDARD
BEGIN:DAYLIGHT
TZOFFSETFROM:+0100
TZOFFSETTO:+0200
TZNAME:CEST
DTSTART:20260329T010000
END:DAYLIGHT
BEGIN:STANDARD
TZOFFSETFROM:+0200
TZOFFSETTO:+0100
TZNAME:CET
DTSTART:20261025T010000
END:STANDARD
END:VTIMEZONE
BEGIN:VEVENT
DTSTART;TZID=Europe/Berlin:20250901T190000
DTEND;TZID=Europe/Berlin:20250901T190000
DTSTAMP:20260423T130218
CREATED:20250118T155240Z
LAST-MODIFIED:20250118T155520Z
UID:3213-1756753200-1756753200@test.sgwendenschloss.de
SUMMARY:Vorstandssitzung
DESCRIPTION:
URL:http://test.sgwendenschloss.de/kalender/vorstandssitzung-42/
CATEGORIES:Vorstand
END:VEVENT
BEGIN:VEVENT
DTSTART;TZID=Europe/Berlin:20250906T000000
DTEND;TZID=Europe/Berlin:20250906T000000
DTSTAMP:20260423T130218
CREATED:20250118T155240Z
LAST-MODIFIED:20250118T155240Z
UID:3212-1757116800-1757116800@test.sgwendenschloss.de
SUMMARY:Ende Trainingslager
DESCRIPTION:
URL:http://test.sgwendenschloss.de/kalender/ende-trainingslager/
END:VEVENT
BEGIN:VEVENT
DTSTART;TZID=Europe/Berlin:20250920T090000
DTEND;TZID=Europe/Berlin:20250920T090000
DTSTAMP:20260423T130218
CREATED:20250118T155254Z
LAST-MODIFIED:20250118T155254Z
UID:3218-1758358800-1758358800@test.sgwendenschloss.de
SUMMARY:Freundschafts-Wettfahrt
DESCRIPTION:
URL:http://test.sgwendenschloss.de/kalender/freundschafts-wettfahrt/
END:VEVENT
BEGIN:VEVENT
DTSTART;TZID=Europe/Berlin:20250927T190000
DTEND;TZID=Europe/Berlin:20250927T190000
DTSTAMP:20260423T130218
CREATED:20250118T155254Z
LAST-MODIFIED:20250118T155254Z
UID:3219-1758999600-1758999600@test.sgwendenschloss.de
SUMMARY:Mitgliederversammlung*
DESCRIPTION:
URL:http://test.sgwendenschloss.de/kalender/mitgliederversammlung-7/
END:VEVENT
END:VCALENDAR